BEGIN:VCALENDAR
VERSION:2.0
PRODID:Events Booking
BEGIN:VEVENT
UID:69ead6a9c57a2
SUMMARY:Alpha Apr 25 Dinner
DESCRIPTION:The Theme for the April communication is \"The Chain of Union.\
 "
 Dinner will be served at 6:00 PM.
 Menu:&nbsp\; Italian Meatballs\, Z
 iti and Sauce\, Roasted Broccoli\, Ceasar Salad\, Cheese &amp\; Oil on sid
 e\, Roll &amp\; Butter
 We will process into the lodge room at 7:00 PM an
 d open at 7:15 PM on the Master Mason Degree.
LOCATION:6 Main Street\, Hopkinton\, 01748 Massachusetts\, United States
DTSTART:20260427T220000Z
DTEND:20260428T020000Z
DTSTAMP:20250807T044641Z
ORGANIZER;CN=Alpha Lodge:MAILTO:webmaster@alphalodge.org
GEO:42.229308;-71.519637
X-APPLE-STRUCTURED-LOCATION;VALUE=URI;X-ADDRESS=6 Main Street\, Hopkinton\,
  01748 Massachusetts\, United States;X-APPLE-RADIUS=72;X-TITLE=John Warren
  Masonic Building:42.229308;-71.519637
END:VEVENT
END:VCALENDAR